BEGIN:VCALENDAR
VERSION:2.0
PRODID:icalendar-ruby
CALSCALE:GREGORIAN
METHOD:PUBLISH
BEGIN:VEVENT
DTSTAMP:20260423T061102Z
UID:14-863110@fellowshipbible.tithelysetup5.com
DTSTART:20261018T133000Z
DTEND:20261018T140000Z
CLASS:PUBLIC
CREATED:20260422T223831
DESCRIPTION:
LAST-MODIFIED:20260422T223831
LOCATION:
SUMMARY:Prayer Meeting
URL;VALUE=URI:https://www.fellowshipnj.com/events/prayer-meeting/2026-10-18
ATTACH;FILENAME=6iKC.jpg;FMTTYPE=image/jpeg:https://dq5pwpg1q8ru0.cloudfron
 t.net/2024/02/28/19/22/30/0e4a75af-9836-45c8-abe0-be9e07cc0101/6iKC.jpg
END:VEVENT
END:VCALENDAR
