BEGIN:VCALENDAR
VERSION:2.0
PRODID:icalendar-ruby
CALSCALE:GREGORIAN
METHOD:PUBLISH
BEGIN:VEVENT
DTSTAMP:20260420T073435Z
UID:14-851017@fellowshipbible.tithelysetup5.com
DTSTART:20250216T143000Z
DTEND:20250216T150000Z
CLASS:PUBLIC
CREATED:20260420T030526
DESCRIPTION:
LAST-MODIFIED:20260420T030526
LOCATION:
SUMMARY:Prayer Meeting
URL;VALUE=URI:https://www.fellowshipnj.com/events/prayer-meeting/2025-02-16
ATTACH;FILENAME=6iKC.jpg;FMTTYPE=image/jpeg:https://dq5pwpg1q8ru0.cloudfron
 t.net/2024/02/28/19/22/30/0e4a75af-9836-45c8-abe0-be9e07cc0101/6iKC.jpg
END:VEVENT
END:VCALENDAR
