BEGIN:VCALENDAR
VERSION:2.0
PRODID:icalendar-ruby
CALSCALE:GREGORIAN
METHOD:PUBLISH
BEGIN:VEVENT
DTSTAMP:20260424T070720Z
UID:25-867350@fellowshipbible.tithelysetup5.com
DTSTART:20260916T143000Z
DTEND:20260916T160000Z
CLASS:PUBLIC
CREATED:20260423T224043
DESCRIPTION:
LAST-MODIFIED:20260423T224043
LOCATION:Church
SUMMARY:Ladies' Bible Study
URL;VALUE=URI:https://www.fellowshipnj.com/events/ladies-bible-study/2026-0
 9-16
ATTACH;FILENAME=smallgroups-16.jpg;FMTTYPE=image/jpeg:https://dq5pwpg1q8ru0
 .cloudfront.net/2024/11/18/14/05/32/9cf4891f-f635-44a3-8778-3e1592619c7c/s
 mallgroups-16.jpg
END:VEVENT
END:VCALENDAR
